BEGIN:VCALENDAR
VERSION:2.0
PRODID:-//USC Democratic Committee - ECPv6.15.13.1//NONSGML v1.0//EN
CALSCALE:GREGORIAN
METHOD:PUBLISH
X-ORIGINAL-URL:https://uscdemocrats.com
X-WR-CALDESC:Events for USC Democratic Committee
REFRESH-INTERVAL;VALUE=DURATION:PT1H
X-Robots-Tag:noindex
X-PUBLISHED-TTL:PT1H
BEGIN:VTIMEZONE
TZID:America/New_York
BEGIN:DAYLIGHT
TZOFFSETFROM:-0500
TZOFFSETTO:-0400
TZNAME:EDT
DTSTART:20200308T070000
END:DAYLIGHT
BEGIN:STANDARD
TZOFFSETFROM:-0400
TZOFFSETTO:-0500
TZNAME:EST
DTSTART:20201101T060000
END:STANDARD
BEGIN:DAYLIGHT
TZOFFSETFROM:-0500
TZOFFSETTO:-0400
TZNAME:EDT
DTSTART:20210314T070000
END:DAYLIGHT
BEGIN:STANDARD
TZOFFSETFROM:-0400
TZOFFSETTO:-0500
TZNAME:EST
DTSTART:20211107T060000
END:STANDARD
BEGIN:DAYLIGHT
TZOFFSETFROM:-0500
TZOFFSETTO:-0400
TZNAME:EDT
DTSTART:20220313T070000
END:DAYLIGHT
BEGIN:STANDARD
TZOFFSETFROM:-0400
TZOFFSETTO:-0500
TZNAME:EST
DTSTART:20221106T060000
END:STANDARD
END:VTIMEZONE
BEGIN:VEVENT
DTSTART;TZID=America/New_York:20210203T190000
DTEND;TZID=America/New_York:20210203T190000
DTSTAMP:20260425T142714
CREATED:20210111T175436Z
LAST-MODIFIED:20210115T200908Z
UID:2126-1612378800-1612378800@uscdemocrats.com
SUMMARY:February 3\, 2021 USC Democratic Committee Monthly Meeting
DESCRIPTION:Zoom Meeting\n7pm \nIf you wish to be invited to this zoom meeting\, please email: maryfmcintyre56@gmail.com
URL:https://uscdemocrats.com/event/february-3-2021-usc-democratic-committee-monthly-meeting/
END:VEVENT
END:VCALENDAR