BEGIN:VCALENDAR
VERSION:2.0
PRODID:-//USC Democratic Committee - ECPv6.15.13.1//NONSGML v1.0//EN
CALSCALE:GREGORIAN
METHOD:PUBLISH
X-WR-CALNAME:USC Democratic Committee
X-ORIGINAL-URL:https://uscdemocrats.com
X-WR-CALDESC:Events for USC Democratic Committee
REFRESH-INTERVAL;VALUE=DURATION:PT1H
X-Robots-Tag:noindex
X-PUBLISHED-TTL:PT1H
BEGIN:VTIMEZONE
TZID:America/New_York
BEGIN:DAYLIGHT
TZOFFSETFROM:-0500
TZOFFSETTO:-0400
TZNAME:EDT
DTSTART:20210314T070000
END:DAYLIGHT
BEGIN:STANDARD
TZOFFSETFROM:-0400
TZOFFSETTO:-0500
TZNAME:EST
DTSTART:20211107T060000
END:STANDARD
BEGIN:DAYLIGHT
TZOFFSETFROM:-0500
TZOFFSETTO:-0400
TZNAME:EDT
DTSTART:20220313T070000
END:DAYLIGHT
BEGIN:STANDARD
TZOFFSETFROM:-0400
TZOFFSETTO:-0500
TZNAME:EST
DTSTART:20221106T060000
END:STANDARD
BEGIN:DAYLIGHT
TZOFFSETFROM:-0500
TZOFFSETTO:-0400
TZNAME:EDT
DTSTART:20230312T070000
END:DAYLIGHT
BEGIN:STANDARD
TZOFFSETFROM:-0400
TZOFFSETTO:-0500
TZNAME:EST
DTSTART:20231105T060000
END:STANDARD
END:VTIMEZONE
BEGIN:VEVENT
DTSTART;TZID=America/New_York:20220821T110000
DTEND;TZID=America/New_York:20220821T113000
DTSTAMP:20260424T102704
CREATED:20220819T202156Z
LAST-MODIFIED:20220819T202156Z
UID:3269-1661079600-1661081400@uscdemocrats.com
SUMMARY:Pittsburgh Strategy Meeting
DESCRIPTION:About this event\n\n\n\n\n\n\n\nJoin us this weekend for a virtual weekend of action on August 21st at 11:00 to learn how you can use our new Team Josh app to elect Josh as Pennsylvania’s next Governor\, invite your friends to join our team\, and register voters… without even leaving your couch! \n​​We just launched the Team Josh PA app\, our one-stop-shop for supporters to get involved and get to work to elect Josh Shapiro the next Governor of Pennsylvania in November. Over the next three months\, we’ll be reaching out to supporters\, having conversations with persuadable voters\, and making sure all of the Pennsylvania voters in our lives are voting this year! \nFrom now until Election Day\, the most important thing you can do to support Josh will be to download our app and use our targeted\, personalized messaging to talk to potential supporters across Pennsylvania. \nWe’ll email a Zoom link 12 hours before the event — please download the Team Josh PA app available wherever you get your apps (and at joshshapiro.org/app and joshshapiro.org/androidapp) before you log on! . For any questions or troubleshooting issues\, please email app@joshshapiro.org \nSee you on August 21st!
URL:https://uscdemocrats.com/event/pittsburgh-strategy-meeting/
LOCATION:Virtual
CATEGORIES:Calendar
ATTACH;FMTTYPE=image/jpeg:https://uscdemocrats.com/wp-content/uploads/2022/08/pittsburghstrategy.jpg
END:VEVENT
END:VCALENDAR