BEGIN:VCALENDAR
VERSION:2.0
PRODID:-//USC Democratic Committee - ECPv6.15.13.1//NONSGML v1.0//EN
CALSCALE:GREGORIAN
METHOD:PUBLISH
X-WR-CALNAME:USC Democratic Committee
X-ORIGINAL-URL:https://uscdemocrats.com
X-WR-CALDESC:Events for USC Democratic Committee
REFRESH-INTERVAL;VALUE=DURATION:PT1H
X-Robots-Tag:noindex
X-PUBLISHED-TTL:PT1H
BEGIN:VTIMEZONE
TZID:America/New_York
BEGIN:DAYLIGHT
TZOFFSETFROM:-0500
TZOFFSETTO:-0400
TZNAME:EDT
DTSTART:20220313T070000
END:DAYLIGHT
BEGIN:STANDARD
TZOFFSETFROM:-0400
TZOFFSETTO:-0500
TZNAME:EST
DTSTART:20221106T060000
END:STANDARD
BEGIN:DAYLIGHT
TZOFFSETFROM:-0500
TZOFFSETTO:-0400
TZNAME:EDT
DTSTART:20230312T070000
END:DAYLIGHT
BEGIN:STANDARD
TZOFFSETFROM:-0400
TZOFFSETTO:-0500
TZNAME:EST
DTSTART:20231105T060000
END:STANDARD
BEGIN:DAYLIGHT
TZOFFSETFROM:-0500
TZOFFSETTO:-0400
TZNAME:EDT
DTSTART:20240310T070000
END:DAYLIGHT
BEGIN:STANDARD
TZOFFSETFROM:-0400
TZOFFSETTO:-0500
TZNAME:EST
DTSTART:20241103T060000
END:STANDARD
END:VTIMEZONE
BEGIN:VEVENT
DTSTART;TZID=America/New_York:20231107T080000
DTEND;TZID=America/New_York:20231107T200000
DTSTAMP:20260423T130919
CREATED:20230822T162856Z
LAST-MODIFIED:20230822T164230Z
UID:3558-1699344000-1699387200@uscdemocrats.com
SUMMARY:Election Day
DESCRIPTION:Be sure to vote for your Democratic Candidates. \nFind Your Polling Place \n \nUpper Saint Clair Unites
URL:https://uscdemocrats.com/event/election-day/
LOCATION:Your Local Polling Place\, PA\, 15241\, United States
CATEGORIES:Calendar
END:VEVENT
BEGIN:VEVENT
DTSTART;TZID=America/New_York:20231121T183000
DTEND;TZID=America/New_York:20231121T200000
DTSTAMP:20260423T130919
CREATED:20230822T163358Z
LAST-MODIFIED:20230822T163358Z
UID:3564-1700591400-1700596800@uscdemocrats.com
SUMMARY:USC Democratic Committee Meeting
DESCRIPTION:
URL:https://uscdemocrats.com/event/usc-democratic-committee-meeting-2/
LOCATION:Old Rec Center\, 1770 McLaughlin Run Road\, Upper St Clair\, PA\, 15241\, United States
CATEGORIES:Calendar
END:VEVENT
END:VCALENDAR